BEGIN:VCALENDAR
PRODID:-//http://statistik.d-u-v.org//PHP ultracalendar//EN
VERSION:2.0
METHOD:PUBLISH
BEGIN:VEVENT
DTSTAMP:20260423T201930
CREATED:20131001T191405
UID:1776975570.0.27669400-19541@statistik.d-u-v.org
SUMMARY:Tahoe Loop the Lake 72 Miler
DESCRIPTION: Tahoe Loop the Lake 72 Miler\n
  Lucia Lake (RD)\n
  lkolkin[at]yahoo.com
DTSTART:20140913T210000
DTEND:20140914T235900
LOCATION:Tallac Village, CA\, USA
URL:http://runtahoe.com/
CATEGORIES:Ultramarathon
CONTACT:Lucia Lake (RD)
CLASS:PUBLIC
PRIORITY:5
TRANSP:OPAQUE
END:VEVENT
END:VCALENDAR
