BEGIN:VCALENDAR
PRODID:-//http://statistik.d-u-v.org//PHP ultracalendar//EN
VERSION:2.0
METHOD:PUBLISH
BEGIN:VEVENT
DTSTAMP:20260419T220832
CREATED:20131107T150633
UID:1776636512.0.78882100-19501@statistik.d-u-v.org
SUMMARY:Highland Fling Race 53 Mile
DESCRIPTION: Highland Fling Race 53 Mile\n
  John Duncan\n
  john[at]highlandflingrace.org
DTSTART:20140426T000000
DTEND:00000000T235900
LOCATION:Milngavie/Glasgow\, GBR
URL:http://www.highlandflingrace.org/
CATEGORIES:Ultramarathon
CONTACT:John Duncan
CLASS:PUBLIC
PRIORITY:5
TRANSP:OPAQUE
END:VEVENT
END:VCALENDAR
