BEGIN:VCALENDAR
PRODID:-//http://statistik.d-u-v.org//PHP ultracalendar//EN
VERSION:2.0
METHOD:PUBLISH
BEGIN:VEVENT
DTSTAMP:20260419T161323
CREATED:20080823T000000
UID:1776615203.0.28654500-1943@statistik.d-u-v.org
SUMMARY:Thames Meander
DESCRIPTION: Thames Meander\n
  Anke Molkenthin\n
  anke.molkenthin[at]laufenderleben.de; contact[at]thamesmeander.com
DTSTART:20090221T000000
DTEND:00000000T235900
LOCATION:Reading\, GBR
URL:http://www.thamesmeander.com/
CATEGORIES:Ultramarathon
CONTACT:Anke Molkenthin
CLASS:PUBLIC
PRIORITY:5
TRANSP:OPAQUE
END:VEVENT
END:VCALENDAR
