BEGIN:VCALENDAR
PRODID:-//http://statistik.d-u-v.org//PHP ultracalendar//EN
VERSION:2.0
METHOD:PUBLISH
BEGIN:VEVENT
DTSTAMP:20260419T192425
CREATED:20130920T184550
UID:1776626665.0.62965900-19361@statistik.d-u-v.org
SUMMARY:Run Rabbit Run 100 Mile UltraMarathon - Tortoises Run
DESCRIPTION: Run Rabbit Run 100 Mile UltraMarathon - Tortoises Run\n
  Fred Abramowitz\n
  info[at]runrabbitrunsteamboat.com
DTSTART:20130913T070000
DTEND:20130914T190000
LOCATION:Steamboat Springs, CO\, USA
URL:http://www.runrabbitrunsteamboat.com/
CATEGORIES:Ultramarathon
CONTACT:Fred Abramowitz
CLASS:PUBLIC
PRIORITY:5
TRANSP:OPAQUE
END:VEVENT
END:VCALENDAR
