BEGIN:VCALENDAR
PRODID:-//http://statistik.d-u-v.org//PHP ultracalendar//EN
VERSION:2.0
METHOD:PUBLISH
BEGIN:VEVENT
DTSTAMP:20260423T070127
CREATED:20130916T181608
UID:1776927687.0.05922400-19294@statistik.d-u-v.org
SUMMARY:Elephant Mountain 50 km
DESCRIPTION: Elephant Mountain 50 km\n
  \n
  
DTSTART:20140222T070000
DTEND:00000000T235900
LOCATION:Cave Creek, AZ\, USA
URL:http://www.aravaiparunning.com/elephant-mountain/
CATEGORIES:Ultramarathon
CONTACT:
CLASS:PUBLIC
PRIORITY:5
TRANSP:OPAQUE
END:VEVENT
END:VCALENDAR
