BEGIN:VCALENDAR
PRODID:-//http://statistik.d-u-v.org//PHP ultracalendar//EN
VERSION:2.0
METHOD:PUBLISH
BEGIN:VEVENT
DTSTAMP:20260422T231242
CREATED:20130902T175459
UID:1776899562.0.84596500-19060@statistik.d-u-v.org
SUMMARY:Highlands Sky 40M Trail Run
DESCRIPTION: Highlands Sky 40M Trail Run\n
  \n
  
DTSTART:20090620T000000
DTEND:00000000T235900
LOCATION:Davis, WV\, USA
URL:http://www.wvmtr.org/events/highlands-sky-40m-trail-run/
CATEGORIES:Ultramarathon
CONTACT:
CLASS:PUBLIC
PRIORITY:5
TRANSP:OPAQUE
END:VEVENT
END:VCALENDAR
