BEGIN:VCALENDAR
PRODID:-//http://statistik.d-u-v.org//PHP ultracalendar//EN
VERSION:2.0
METHOD:PUBLISH
BEGIN:VEVENT
DTSTAMP:20260423T020206
CREATED:20130514T170741
UID:1776909726.0.65394400-18845@statistik.d-u-v.org
SUMMARY:100 km Ultramaraton (Forrest Gump) Zagreb - 50km Split
DESCRIPTION: 100 km Ultramaraton (Forrest Gump) Zagreb - 50km Split\n
  \n
  info[at]aksljeme.com
DTSTART:20130511T090000
DTEND:00000000T235900
LOCATION:Zagreb\, CRO
URL:http://www.aksljeme.com/2013/04/08/forrest-gump-2013/
CATEGORIES:Ultramarathon
CONTACT:
CLASS:PUBLIC
PRIORITY:5
TRANSP:OPAQUE
END:VEVENT
END:VCALENDAR
