BEGIN:VCALENDAR
PRODID:-//http://statistik.d-u-v.org//PHP ultracalendar//EN
VERSION:2.0
METHOD:PUBLISH
BEGIN:VEVENT
DTSTAMP:20260423T012445
CREATED:20130508T162313
UID:1776907485.0.49842900-18815@statistik.d-u-v.org
SUMMARY:Avalon Benefit 50-Mile Run
DESCRIPTION: Avalon Benefit 50-Mile Run\n
  \n
  
DTSTART:20010113T000000
DTEND:00000000T235900
LOCATION:Avalon, CA\, USA
URL:http://www.avalon50.com/
CATEGORIES:Ultramarathon
CONTACT:
CLASS:PUBLIC
PRIORITY:5
TRANSP:OPAQUE
END:VEVENT
END:VCALENDAR
