BEGIN:VCALENDAR
PRODID:-//http://statistik.d-u-v.org//PHP ultracalendar//EN
VERSION:2.0
METHOD:PUBLISH
BEGIN:VEVENT
DTSTAMP:20260423T022712
CREATED:20130503T172556
UID:1776911232.0.56021900-18722@statistik.d-u-v.org
SUMMARY:El Descenso Maratón 47 km
DESCRIPTION: El Descenso Maratón 47 km\n
  \n
  
DTSTART:20131214T093000
DTEND:00000000T235900
LOCATION:Las Palmas\, ESP
URL:http://utgc.es/
CATEGORIES:Ultramarathon
CONTACT:
CLASS:PUBLIC
PRIORITY:5
TRANSP:OPAQUE
END:VEVENT
END:VCALENDAR
