BEGIN:VCALENDAR
PRODID:-//http://statistik.d-u-v.org//PHP ultracalendar//EN
VERSION:2.0
METHOD:PUBLISH
BEGIN:VEVENT
DTSTAMP:20260423T022836
CREATED:20130503T172556
UID:1776911316.0.69667800-18721@statistik.d-u-v.org
SUMMARY:Trail de Guayadeque 70 km
DESCRIPTION: Trail de Guayadeque 70 km\n
  \n
  
DTSTART:20131214T063000
DTEND:20131215T235900
LOCATION:Las Palmas\, ESP
URL:http://utgc.es/
CATEGORIES:Ultramarathon
CONTACT:
CLASS:PUBLIC
PRIORITY:5
TRANSP:OPAQUE
END:VEVENT
END:VCALENDAR
