BEGIN:VCALENDAR
PRODID:-//http://statistik.d-u-v.org//PHP ultracalendar//EN
VERSION:2.0
METHOD:PUBLISH
BEGIN:VEVENT
DTSTAMP:20260423T002745
CREATED:20130503T172556
UID:1776904065.0.21868400-18720@statistik.d-u-v.org
SUMMARY:Ultra Trail Gran Challenge (UTGC) 90 km
DESCRIPTION: Ultra Trail Gran Challenge (UTGC) 90 km\n
  \n
  
DTSTART:20131214T063000
DTEND:20131215T235900
LOCATION:Las Palmas\, ESP
URL:http://utgc.es/
CATEGORIES:Ultramarathon
CONTACT:
CLASS:PUBLIC
PRIORITY:5
TRANSP:OPAQUE
END:VEVENT
END:VCALENDAR
