BEGIN:VCALENDAR
PRODID:-//http://statistik.d-u-v.org//PHP ultracalendar//EN
VERSION:2.0
METHOD:PUBLISH
BEGIN:VEVENT
DTSTAMP:20260423T043545
CREATED:20130716T175125
UID:1776918945.0.60952900-18624@statistik.d-u-v.org
SUMMARY:Badgerland F/X 12 Hour Run (night)
DESCRIPTION: Badgerland F/X 12 Hour Run (night)\n
  Robert Wehner\n
  rwehner[at]hotmail.com
DTSTART:20130831T200000
DTEND:20130901T235900
LOCATION:Germantown, WI\, USA
URL:http://www.badgerlandstriders.org/home/Races/Badgerland24126HourRun.htm
CATEGORIES:Ultramarathon
CONTACT:Robert Wehner
CLASS:PUBLIC
PRIORITY:5
TRANSP:OPAQUE
END:VEVENT
END:VCALENDAR
