BEGIN:VCALENDAR
PRODID:-//http://statistik.d-u-v.org//PHP ultracalendar//EN
VERSION:2.0
METHOD:PUBLISH
BEGIN:VEVENT
DTSTAMP:20260419T185840
CREATED:20130715T222358
UID:1776625120.0.85288300-18620@statistik.d-u-v.org
SUMMARY:Int. 6-day Ultramarathon Balatonfüred - 24h Split
DESCRIPTION: Int. 6-day Ultramarathon Balatonfüred - 24h Split\n
  \n
  info[at]unixsport.hu
DTSTART:20130508T120000
DTEND:20130509T120000
LOCATION:Balatonfüred\, HUN
URL:http://www.unixsport.hu/hatnaposfutoverseny/6dayrace48hourrace
CATEGORIES:Ultramarathon
CONTACT:
CLASS:PUBLIC
PRIORITY:5
TRANSP:OPAQUE
END:VEVENT
END:VCALENDAR
