BEGIN:VCALENDAR
PRODID:-//http://statistik.d-u-v.org//PHP ultracalendar//EN
VERSION:2.0
METHOD:PUBLISH
BEGIN:VEVENT
DTSTAMP:20260422T201627
CREATED:20130712T221609
UID:1776888987.0.62400300-18589@statistik.d-u-v.org
SUMMARY:Laulasmaa Ultra
DESCRIPTION: Laulasmaa Ultra\n
  \n
  
DTSTART:20130615T000000
DTEND:20130616T235900
LOCATION:Laulasmaa\, EST
URL:http://estonian-ultrarunners.com/index.php?option=com_content&view=article&id=75%3Alaulasmaa-ultra&catid=55&Itemid=55&lang=en
CATEGORIES:Ultramarathon
CONTACT:
CLASS:PUBLIC
PRIORITY:5
TRANSP:OPAQUE
END:VEVENT
END:VCALENDAR
