BEGIN:VCALENDAR
PRODID:-//http://statistik.d-u-v.org//PHP ultracalendar//EN
VERSION:2.0
METHOD:PUBLISH
BEGIN:VEVENT
DTSTAMP:20260419T234440
CREATED:20130703T174555
UID:1776642280.0.53055500-18532@statistik.d-u-v.org
SUMMARY:Silverton 24 Hour Mountain Run
DESCRIPTION: Silverton 24 Hour Mountain Run\n
  Jamil Coury\n
  jamil[at]aravaiparunning.com
DTSTART:20130629T080000
DTEND:20130630T080000
LOCATION:Silverton, CO\, USA
URL:http://www.silvertonalpinerunning.com/events/silverton-61224-hour-mountain-run/
CATEGORIES:Ultramarathon
CONTACT:Jamil Coury
CLASS:PUBLIC
PRIORITY:5
TRANSP:OPAQUE
END:VEVENT
END:VCALENDAR
