BEGIN:VCALENDAR
PRODID:-//http://statistik.d-u-v.org//PHP ultracalendar//EN
VERSION:2.0
METHOD:PUBLISH
BEGIN:VEVENT
DTSTAMP:20260423T022710
CREATED:20130702T170113
UID:1776911230.0.62390500-18516@statistik.d-u-v.org
SUMMARY:24 hrs Run Palic
DESCRIPTION: 24 hrs Run Palic\n
  Elvira Janosi\n
  drjanositibor[at]yahoo.com
DTSTART:20130615T120000
DTEND:20130616T120000
LOCATION:Palic\, SRB
URL:http://www.usspalic.org/default/index.php?p=race_date
CATEGORIES:Ultramarathon
CONTACT:Elvira Janosi
CLASS:PUBLIC
PRIORITY:5
TRANSP:OPAQUE
END:VEVENT
END:VCALENDAR
