BEGIN:VCALENDAR
PRODID:-//http://statistik.d-u-v.org//PHP ultracalendar//EN
VERSION:2.0
METHOD:PUBLISH
BEGIN:VEVENT
DTSTAMP:20260419T161333
CREATED:20130425T200032
UID:1776615213.0.48276900-18353@statistik.d-u-v.org
SUMMARY:Ultra Trail Schwarzach
DESCRIPTION: Ultra Trail Schwarzach\n
  Zitzenbacher Fred\n
  zitzenbacher.fred[at]aon.at
DTSTART:20140406T083000
DTEND:00000000T235900
LOCATION:Schwarzach im Pongau\, AUT
URL:http://triundrun.at
CATEGORIES:Ultramarathon
CONTACT:Zitzenbacher Fred
CLASS:PUBLIC
PRIORITY:5
TRANSP:OPAQUE
END:VEVENT
END:VCALENDAR
