BEGIN:VCALENDAR
PRODID:-//http://statistik.d-u-v.org//PHP ultracalendar//EN
VERSION:2.0
METHOD:PUBLISH
BEGIN:VEVENT
DTSTAMP:20260419T192403
CREATED:20130416T173036
UID:1776626643.0.75823500-18208@statistik.d-u-v.org
SUMMARY:Yukon Arctic Ultra 100mi
DESCRIPTION: Yukon Arctic Ultra 100mi\n
  Robert Pollhammer\n
  info[at]thegreatoutdoors.de
DTSTART:20140130T000000
DTEND:20140207T235900
LOCATION:Whitehorse, YT\, CAN
URL:http://www.arcticultra.de/
CATEGORIES:Ultramarathon
CONTACT:Robert Pollhammer
CLASS:PUBLIC
PRIORITY:5
TRANSP:OPAQUE
END:VEVENT
END:VCALENDAR
