BEGIN:VCALENDAR
PRODID:-//http://statistik.d-u-v.org//PHP ultracalendar//EN
VERSION:2.0
METHOD:PUBLISH
BEGIN:VEVENT
DTSTAMP:20260423T002745
CREATED:20130329T175007
UID:1776904065.0.12768800-17937@statistik.d-u-v.org
SUMMARY:Palo Duro 50 Mile Trail Run
DESCRIPTION: Palo Duro 50 Mile Trail Run\n
  \n
  
DTSTART:20071020T000000
DTEND:00000000T235900
LOCATION:Amarillo, TX\, USA
URL:http://palodurotrailrun.com/
CATEGORIES:Ultramarathon
CONTACT:
CLASS:PUBLIC
PRIORITY:5
TRANSP:OPAQUE
END:VEVENT
END:VCALENDAR
