BEGIN:VCALENDAR
PRODID:-//http://statistik.d-u-v.org//PHP ultracalendar//EN
VERSION:2.0
METHOD:PUBLISH
BEGIN:VEVENT
DTSTAMP:20260423T053957
CREATED:20130319T190854
UID:1776922797.0.01454300-17835@statistik.d-u-v.org
SUMMARY:American Canyon Ultramarathon
DESCRIPTION: American Canyon Ultramarathon\n
  Race Director Harlan Reymont\n
  sierrapacificendurance[at]gmail.com
DTSTART:20130209T000000
DTEND:00000000T235900
LOCATION:Auburn, CA\, USA
URL:http://www.sierrapacificendurance.com/index.cfm/events/american-canyon-race/
CATEGORIES:Ultramarathon
CONTACT:Race Director Harlan Reymont
CLASS:PUBLIC
PRIORITY:5
TRANSP:OPAQUE
END:VEVENT
END:VCALENDAR
