BEGIN:VCALENDAR
PRODID:-//http://statistik.d-u-v.org//PHP ultracalendar//EN
VERSION:2.0
METHOD:PUBLISH
BEGIN:VEVENT
DTSTAMP:20260419T164914
CREATED:20130315T182229
UID:1776617354.0.32107000-17785@statistik.d-u-v.org
SUMMARY:Annapurna 70k Ultra Trail
DESCRIPTION: Annapurna 70k Ultra Trail\n
  Roger Henke\n
  rh.summit[at]gmail.com
DTSTART:20130309T050000
DTEND:00000000T235900
LOCATION:Pokhara\, NEP
URL:http://trailrunningnepal.org/2010/03/5th-annapurna-100-ultra-trail-race-1st-january-2011/
CATEGORIES:Ultramarathon
CONTACT:Roger Henke
CLASS:PUBLIC
PRIORITY:5
TRANSP:OPAQUE
END:VEVENT
END:VCALENDAR
