BEGIN:VCALENDAR
PRODID:-//http://statistik.d-u-v.org//PHP ultracalendar//EN
VERSION:2.0
METHOD:PUBLISH
BEGIN:VEVENT
DTSTAMP:20260423T002747
CREATED:20130215T172357
UID:1776904067.0.58489700-17623@statistik.d-u-v.org
SUMMARY:Bad Marsh 50k Night Ultra
DESCRIPTION: Bad Marsh 50k Night Ultra\n
  Race Director Tim Waz\n
  tim[at]lowcountryultras.com
DTSTART:20120623T000000
DTEND:00000000T235900
LOCATION:Beaufort, SC\, USA
URL:http://www.lowcountryultras.com/Bad_Marsh_50k.php
CATEGORIES:Ultramarathon
CONTACT:Race Director Tim Waz
CLASS:PUBLIC
PRIORITY:5
TRANSP:OPAQUE
END:VEVENT
END:VCALENDAR
