BEGIN:VCALENDAR
PRODID:-//http://statistik.d-u-v.org//PHP ultracalendar//EN
VERSION:2.0
METHOD:PUBLISH
BEGIN:VEVENT
DTSTAMP:20260420T000625
CREATED:20130214T173015
UID:1776643585.0.86159900-17603@statistik.d-u-v.org
SUMMARY:Angeles National Forest 50Mile Trail Race
DESCRIPTION: Angeles National Forest 50Mile Trail Race\n
  \n
  
DTSTART:20080809T000000
DTEND:00000000T235900
LOCATION:Mt. Wilson, CA\, USA
URL:http://www.mtdisappointment50k.com/
CATEGORIES:Ultramarathon
CONTACT:
CLASS:PUBLIC
PRIORITY:5
TRANSP:OPAQUE
END:VEVENT
END:VCALENDAR
