BEGIN:VCALENDAR
PRODID:-//http://statistik.d-u-v.org//PHP ultracalendar//EN
VERSION:2.0
METHOD:PUBLISH
BEGIN:VEVENT
DTSTAMP:20260423T033717
CREATED:20130614T162220
UID:1776915437.0.56245800-17597@statistik.d-u-v.org
SUMMARY:Fairbanks Equinox Ultra Marathon
DESCRIPTION: Fairbanks Equinox Ultra Marathon\n
  John Estle, Race Co-Director\n
  
DTSTART:20130921T000000
DTEND:00000000T235900
LOCATION:Fairbanks, AK\, USA
URL:http://www.equinoxmarathon.org/
CATEGORIES:Ultramarathon
CONTACT:John Estle, Race Co-Director
CLASS:PUBLIC
PRIORITY:5
TRANSP:OPAQUE
END:VEVENT
END:VCALENDAR
