BEGIN:VCALENDAR
PRODID:-//http://statistik.d-u-v.org//PHP ultracalendar//EN
VERSION:2.0
METHOD:PUBLISH
BEGIN:VEVENT
DTSTAMP:20260419T130511
CREATED:20130201T165702
UID:1776603911.0.40552300-17450@statistik.d-u-v.org
SUMMARY:Angeles National Forest 50k Trail Race
DESCRIPTION: Angeles National Forest 50k Trail Race\n
  Race Director Gary Hilliard\n
  gary[at]mtdisappointment50k.com
DTSTART:20120811T000000
DTEND:00000000T235900
LOCATION:Mt. Wilson, CA\, USA
URL:http://www.mtdisappointment50k.com/
CATEGORIES:Ultramarathon
CONTACT:Race Director Gary Hilliard
CLASS:PUBLIC
PRIORITY:5
TRANSP:OPAQUE
END:VEVENT
END:VCALENDAR
