BEGIN:VCALENDAR
PRODID:-//http://statistik.d-u-v.org//PHP ultracalendar//EN
VERSION:2.0
METHOD:PUBLISH
BEGIN:VEVENT
DTSTAMP:20260424T192421
CREATED:20130114T204329
UID:1777058661.0.97207400-17198@statistik.d-u-v.org
SUMMARY:Golser Benefizultralauf 6h
DESCRIPTION: Golser Benefizultralauf 6h\n
  Franz Sack\n
  reinhard.gsellmann[at]aon.at
DTSTART:20130512T000000
DTEND:00000000T235900
LOCATION:Gols\, AUT
URL:http://members.aon.at/lt-gols/
CATEGORIES:Ultramarathon
CONTACT:Franz Sack
CLASS:PUBLIC
PRIORITY:5
TRANSP:OPAQUE
END:VEVENT
END:VCALENDAR
