BEGIN:VCALENDAR
PRODID:-//http://statistik.d-u-v.org//PHP ultracalendar//EN
VERSION:2.0
METHOD:PUBLISH
BEGIN:VEVENT
DTSTAMP:20260423T044347
CREATED:20130111T164021
UID:1776919427.0.40615600-17143@statistik.d-u-v.org
SUMMARY:Stinson Beach 50 km
DESCRIPTION: Stinson Beach 50 km\n
  \n
  
DTSTART:20131026T083000
DTEND:00000000T235900
LOCATION:Stinson Beach, CA\, USA
URL:http://www.pctrailruns.com/event.aspx?dtid=9963
CATEGORIES:Ultramarathon
CONTACT:
CLASS:PUBLIC
PRIORITY:5
TRANSP:OPAQUE
END:VEVENT
END:VCALENDAR
