BEGIN:VCALENDAR
PRODID:-//http://statistik.d-u-v.org//PHP ultracalendar//EN
VERSION:2.0
METHOD:PUBLISH
BEGIN:VEVENT
DTSTAMP:20260423T043452
CREATED:20120914T014302
UID:1776918892.0.58535300-17008@statistik.d-u-v.org
SUMMARY:Festival of running 48 hour Circuit Race
DESCRIPTION: Festival of running 48 hour Circuit Race\n
  Eric Wright\n
  efwright[at]global.co.za
DTSTART:20121230T120000
DTEND:20130101T120000
LOCATION:Pretoria\, RSA
URL:http://www.circuitraces.co.za/
CATEGORIES:Ultramarathon
CONTACT:Eric Wright
CLASS:PUBLIC
PRIORITY:5
TRANSP:OPAQUE
END:VEVENT
END:VCALENDAR
