BEGIN:VCALENDAR
PRODID:-//http://statistik.d-u-v.org//PHP ultracalendar//EN
VERSION:2.0
METHOD:PUBLISH
BEGIN:VEVENT
DTSTAMP:20260425T235547
CREATED:20130103T155501
UID:1777161347.0.87502000-16953@statistik.d-u-v.org
SUMMARY:CdO-Dahilayan 57K Trail UltraMarathon
DESCRIPTION: CdO-Dahilayan 57K Trail UltraMarathon\n
  Francis Velasquez\n
  
DTSTART:20120908T000000
DTEND:00000000T235900
LOCATION:Cagayan de Oro\, PHI
URL:
CATEGORIES:Ultramarathon
CONTACT:Francis Velasquez
CLASS:PUBLIC
PRIORITY:5
TRANSP:OPAQUE
END:VEVENT
END:VCALENDAR
