BEGIN:VCALENDAR
PRODID:-//http://statistik.d-u-v.org//PHP ultracalendar//EN
VERSION:2.0
METHOD:PUBLISH
BEGIN:VEVENT
DTSTAMP:20260423T020407
CREATED:20130102T182223
UID:1776909847.0.17176000-16934@statistik.d-u-v.org
SUMMARY:Stone Cat 50 Mile
DESCRIPTION: Stone Cat 50 Mile\n
  \n
  
DTSTART:20051115T000000
DTEND:00000000T235900
LOCATION:Ipswich, MA\, USA
URL:http://www.gaconline.net/scmain.html
CATEGORIES:Ultramarathon
CONTACT:
CLASS:PUBLIC
PRIORITY:5
TRANSP:OPAQUE
END:VEVENT
END:VCALENDAR
