BEGIN:VCALENDAR
PRODID:-//http://statistik.d-u-v.org//PHP ultracalendar//EN
VERSION:2.0
METHOD:PUBLISH
BEGIN:VEVENT
DTSTAMP:20260421T183147
CREATED:20121224T070330
UID:1776796307.0.36555200-16844@statistik.d-u-v.org
SUMMARY:Self-Transcendence 12 h Paris - 100km Split
DESCRIPTION: Self-Transcendence 12 h Paris - 100km Split\n
  \n
  
DTSTART:19890723T000000
DTEND:00000000T235900
LOCATION:Paris\, FRA
URL:
CATEGORIES:Ultramarathon
CONTACT:
CLASS:PUBLIC
PRIORITY:5
TRANSP:OPAQUE
END:VEVENT
END:VCALENDAR
