BEGIN:VCALENDAR
PRODID:-//http://statistik.d-u-v.org//PHP ultracalendar//EN
VERSION:2.0
METHOD:PUBLISH
BEGIN:VEVENT
DTSTAMP:20260419T182032
CREATED:20121213T170147
UID:1776622832.0.19340400-16680@statistik.d-u-v.org
SUMMARY:Sun Mountain 50 Mile Trail Races
DESCRIPTION: Sun Mountain 50 Mile Trail Races\n
  \n
  info[at]rainshadowrunning.com
DTSTART:20130519T000000
DTEND:00000000T235900
LOCATION:Winthrop, WA\, USA
URL:http://sunmountaintrailraces.blogspot.com/
CATEGORIES:Ultramarathon
CONTACT:
CLASS:PUBLIC
PRIORITY:5
TRANSP:OPAQUE
END:VEVENT
END:VCALENDAR
