BEGIN:VCALENDAR
PRODID:-//http://statistik.d-u-v.org//PHP ultracalendar//EN
VERSION:2.0
METHOD:PUBLISH
BEGIN:VEVENT
DTSTAMP:20260419T213455
CREATED:20170206T123149
UID:1776634495.0.11694500-16516@statistik.d-u-v.org
SUMMARY:Rumbo a Paraguaná Desert Trail 60km
DESCRIPTION: Rumbo a Paraguaná Desert Trail 60km\n
  Orangel Lugo\n
  rumboaparaguana[at]gmail.com
DTSTART:20150925T000000
DTEND:00000000T235900
LOCATION:La Vela\, VEN
URL:http://www.rumboaparaguana.com.ve
CATEGORIES:Ultramarathon
CONTACT:Orangel Lugo
CLASS:PUBLIC
PRIORITY:5
TRANSP:OPAQUE
END:VEVENT
END:VCALENDAR
