BEGIN:VCALENDAR
PRODID:-//http://statistik.d-u-v.org//PHP ultracalendar//EN
VERSION:2.0
METHOD:PUBLISH
BEGIN:VEVENT
DTSTAMP:20260422T134027
CREATED:20121112T080714
UID:1776865227.0.97481600-16306@statistik.d-u-v.org
SUMMARY:50 km Wien
DESCRIPTION: 50 km Wien\n
  Klemens Huemer\n
  klemens[at]100km-wien.at
DTSTART:20130615T100000
DTEND:20130615T180000
LOCATION:Wien\, AUT
URL:http://www.100km-wien.at
CATEGORIES:Ultramarathon
CONTACT:Klemens Huemer
CLASS:PUBLIC
PRIORITY:5
TRANSP:OPAQUE
END:VEVENT
END:VCALENDAR
