BEGIN:VCALENDAR
PRODID:-//http://statistik.d-u-v.org//PHP ultracalendar//EN
VERSION:2.0
METHOD:PUBLISH
BEGIN:VEVENT
DTSTAMP:20260419T230514
CREATED:20121102T160426
UID:1776639914.0.50122300-16239@statistik.d-u-v.org
SUMMARY:Bergen Ultra 63 km
DESCRIPTION: Bergen Ultra 63 km\n
  Morten Hauso\n
  torggaten.711no7093[at]7-eleven.no
DTSTART:20130406T000000
DTEND:00000000T235900
LOCATION:Bergen\, NOR
URL:http://www.maratonkarusellen.no
CATEGORIES:Ultramarathon
CONTACT:Morten Hauso
CLASS:PUBLIC
PRIORITY:5
TRANSP:OPAQUE
END:VEVENT
END:VCALENDAR
