BEGIN:VCALENDAR
PRODID:-//http://statistik.d-u-v.org//PHP ultracalendar//EN
VERSION:2.0
METHOD:PUBLISH
BEGIN:VEVENT
DTSTAMP:20260420T003857
CREATED:20121024T162640
UID:1776645537.0.86901500-16043@statistik.d-u-v.org
SUMMARY:24-Stunden-Benefizlauf von Breitscheid
DESCRIPTION: 24-Stunden-Benefizlauf von Breitscheid\n
  \n
  24stunden[at]tus-breitscheid.de
DTSTART:20130712T180000
DTEND:20130713T235900
LOCATION:Ratingen\, GER
URL:http://www.tus-breitscheid.de/veran/24std/index.shtml
CATEGORIES:Ultramarathon
CONTACT:
CLASS:PUBLIC
PRIORITY:5
TRANSP:OPAQUE
END:VEVENT
END:VCALENDAR
