BEGIN:VCALENDAR
PRODID:-//http://statistik.d-u-v.org//PHP ultracalendar//EN
VERSION:2.0
METHOD:PUBLISH
BEGIN:VEVENT
DTSTAMP:20260420T012838
CREATED:20120927T163818
UID:1776648518.0.48054900-15715@statistik.d-u-v.org
SUMMARY:Western States 100 Mile Endurance Run
DESCRIPTION: Western States 100 Mile Endurance Run\n
  Greg Soderlund\n
  wser100[at]comcast.net
DTSTART:20130629T000000
DTEND:20130630T235900
LOCATION:Squaw Valley, CA\, USA
URL:http://www.ws100.com/
CATEGORIES:Ultramarathon
CONTACT:Greg Soderlund
CLASS:PUBLIC
PRIORITY:5
TRANSP:OPAQUE
END:VEVENT
END:VCALENDAR
