BEGIN:VCALENDAR
PRODID:-//http://statistik.d-u-v.org//PHP ultracalendar//EN
VERSION:2.0
METHOD:PUBLISH
BEGIN:VEVENT
DTSTAMP:20260422T234908
CREATED:20120921T154656
UID:1776901748.0.82796100-15639@statistik.d-u-v.org
SUMMARY:Beogradski Ultramaraton 12h
DESCRIPTION: Beogradski Ultramaraton 12h\n
  \n
  srbijabg24h[at]srichinmoyraces.org
DTSTART:20120929T120000
DTEND:00000000T235900
LOCATION:Belgrad\, SRB
URL:http://www.srichinmoyraces.org/yu/aktivnosti/bum/bum2008
CATEGORIES:Ultramarathon
CONTACT:
CLASS:PUBLIC
PRIORITY:5
TRANSP:OPAQUE
END:VEVENT
END:VCALENDAR
