BEGIN:VCALENDAR
PRODID:-//http://statistik.d-u-v.org//PHP ultracalendar//EN
VERSION:2.0
METHOD:PUBLISH
BEGIN:VEVENT
DTSTAMP:20260423T012137
CREATED:20120911T160007
UID:1776907297.0.40434300-15557@statistik.d-u-v.org
SUMMARY:100 km Lauf Biel - Militär-Patrouillenlauf
DESCRIPTION: 100 km Lauf Biel - Militär-Patrouillenlauf\n
  \n
  lauftage[at]bluewin.ch
DTSTART:20080613T000000
DTEND:20080614T235900
LOCATION:Biel\, SUI
URL:http://www.100km.ch
CATEGORIES:Ultramarathon
CONTACT:
CLASS:PUBLIC
PRIORITY:5
TRANSP:OPAQUE
END:VEVENT
END:VCALENDAR
