BEGIN:VCALENDAR
PRODID:-//http://statistik.d-u-v.org//PHP ultracalendar//EN
VERSION:2.0
METHOD:PUBLISH
BEGIN:VEVENT
DTSTAMP:20260419T192200
CREATED:20120823T000000
UID:1776626520.0.27576900-15372@statistik.d-u-v.org
SUMMARY:Cortina Trail
DESCRIPTION: Cortina Trail\n
  \n
  lavaredo[at]ultratrail.it
DTSTART:20130629T080000
DTEND:00000000T235900
LOCATION:Cortina d'Ampezzo\, ITA
URL:http://www.ultratrail.it
CATEGORIES:Ultramarathon
CONTACT:
CLASS:PUBLIC
PRIORITY:5
TRANSP:OPAQUE
END:VEVENT
END:VCALENDAR
