BEGIN:VCALENDAR
PRODID:-//http://statistik.d-u-v.org//PHP ultracalendar//EN
VERSION:2.0
METHOD:PUBLISH
BEGIN:VEVENT
DTSTAMP:20260419T211251
CREATED:20120823T000000
UID:1776633171.0.84633400-15371@statistik.d-u-v.org
SUMMARY:Lavaredo Ultra Trail
DESCRIPTION: Lavaredo Ultra Trail\n
  \n
  lavaredo[at]ultratrail.it
DTSTART:20130628T230000
DTEND:20130629T235900
LOCATION:Cortina d'Ampezzo\, ITA
URL:http://www.ultratrail.it
CATEGORIES:Ultramarathon
CONTACT:
CLASS:PUBLIC
PRIORITY:5
TRANSP:OPAQUE
END:VEVENT
END:VCALENDAR
