BEGIN:VCALENDAR
PRODID:-//http://statistik.d-u-v.org//PHP ultracalendar//EN
VERSION:2.0
METHOD:PUBLISH
BEGIN:VEVENT
DTSTAMP:20260425T175916
CREATED:20120808T084327
UID:1777139956.0.66462500-15221@statistik.d-u-v.org
SUMMARY:Yung Ho 50K Ultra-marathon
DESCRIPTION: Yung Ho 50K Ultra-marathon\n
  \n
  
DTSTART:20080127T073000
DTEND:00000000T235900
LOCATION:Taipei\, TPE
URL:http://www.taipeimarathon.org.tw/contest.aspx
CATEGORIES:Ultramarathon
CONTACT:
CLASS:PUBLIC
PRIORITY:5
TRANSP:OPAQUE
END:VEVENT
END:VCALENDAR
