BEGIN:VCALENDAR
PRODID:-//http://statistik.d-u-v.org//PHP ultracalendar//EN
VERSION:2.0
METHOD:PUBLISH
BEGIN:VEVENT
DTSTAMP:20260420T012841
CREATED:20111114T172819
UID:1776648521.0.75880400-14876@statistik.d-u-v.org
SUMMARY:Silverton 6 Hour Mountain Run
DESCRIPTION: Silverton 6 Hour Mountain Run\n
  Jamil Coury\n
  jamil[at]aravaiparunning.com
DTSTART:20120630T080000
DTEND:00000000T235900
LOCATION:Silverton, CO\, USA
URL:http://www.silvertonalpinerunning.com/events/silverton-61224-hour-mountain-run/
CATEGORIES:Ultramarathon
CONTACT:Jamil Coury
CLASS:PUBLIC
PRIORITY:5
TRANSP:OPAQUE
END:VEVENT
END:VCALENDAR
