BEGIN:VCALENDAR
PRODID:-//http://statistik.d-u-v.org//PHP ultracalendar//EN
VERSION:2.0
METHOD:PUBLISH
BEGIN:VEVENT
DTSTAMP:20260419T164355
CREATED:20120711T163855
UID:1776617035.0.35589900-14869@statistik.d-u-v.org
SUMMARY:Sulphur Springs Trail Run 50km
DESCRIPTION: Sulphur Springs Trail Run 50km\n
  Race Director Joe Hewitt\n
  sulphurspringsrd[at]gmail.com
DTSTART:20130525T000000
DTEND:00000000T235900
LOCATION:Ancaster, ON\, CAN
URL:http://www.burlingtonrunners.com/index.cfm?id=5711
CATEGORIES:Ultramarathon
CONTACT:Race Director Joe Hewitt
CLASS:PUBLIC
PRIORITY:5
TRANSP:OPAQUE
END:VEVENT
END:VCALENDAR
