BEGIN:VCALENDAR
PRODID:-//http://statistik.d-u-v.org//PHP ultracalendar//EN
VERSION:2.0
METHOD:PUBLISH
BEGIN:VEVENT
DTSTAMP:20260423T020216
CREATED:20120709T152949
UID:1776909736.0.70063900-14813@statistik.d-u-v.org
SUMMARY:IAU 100km EC Belves
DESCRIPTION: IAU 100km EC Belves\n
  \n
  contact[at]100kmbelves.com
DTSTART:20130427T000000
DTEND:20130428T235900
LOCATION:Belves\, FRA
URL:http://www.100kmbelves.com/
CATEGORIES:Ultramarathon
CONTACT:
CLASS:PUBLIC
PRIORITY:5
TRANSP:OPAQUE
END:VEVENT
END:VCALENDAR
