BEGIN:VCALENDAR
PRODID:-//http://statistik.d-u-v.org//PHP ultracalendar//EN
VERSION:2.0
METHOD:PUBLISH
BEGIN:VEVENT
DTSTAMP:20260420T060804
CREATED:20120702T161307
UID:1776665284.0.54067100-14772@statistik.d-u-v.org
SUMMARY:Endurance Challenge - Washington Trail 50 Miles
DESCRIPTION: Endurance Challenge - Washington Trail 50 Miles\n
  \n
  endurancechallenge[at]hawkeyeww.com
DTSTART:20080510T000000
DTEND:00000000T235900
LOCATION:Bellingham, WA\, USA
URL:http://www2.thenorthface.com/endurancechallenge/
CATEGORIES:Ultramarathon
CONTACT:
CLASS:PUBLIC
PRIORITY:5
TRANSP:OPAQUE
END:VEVENT
END:VCALENDAR
