BEGIN:VCALENDAR
PRODID:-//http://statistik.d-u-v.org//PHP ultracalendar//EN
VERSION:2.0
METHOD:PUBLISH
BEGIN:VEVENT
DTSTAMP:20260419T164351
CREATED:20120625T205123
UID:1776617031.0.62345800-14710@statistik.d-u-v.org
SUMMARY:Paul Selby Circuit Race 50km Challenge
DESCRIPTION: Paul Selby Circuit Race 50km Challenge\n
  \n
  
DTSTART:20050226T000000
DTEND:00000000T235900
LOCATION:Bedfordview\, RSA
URL:http://www.multidays.com/pdf_files/Paul%20Selby%20Circuit%20Race%202005.pdf
CATEGORIES:Ultramarathon
CONTACT:
CLASS:PUBLIC
PRIORITY:5
TRANSP:OPAQUE
END:VEVENT
END:VCALENDAR
