BEGIN:VCALENDAR
PRODID:-//http://statistik.d-u-v.org//PHP ultracalendar//EN
VERSION:2.0
METHOD:PUBLISH
BEGIN:VEVENT
DTSTAMP:20260423T052621
CREATED:20120614T174342
UID:1776921981.0.78942300-14623@statistik.d-u-v.org
SUMMARY:Eastern Valley Int. 50k Ultra-marathon Race
DESCRIPTION: Eastern Valley Int. 50k Ultra-marathon Race\n
  \n
  
DTSTART:20060318T060000
DTEND:00000000T235900
LOCATION:Hualien\, TPE
URL:http://tw.myblog.yahoo.com/jw!gDpcKxmRGBajTpqlKhaM2Q--/article?mid=251
CATEGORIES:Ultramarathon
CONTACT:
CLASS:PUBLIC
PRIORITY:5
TRANSP:OPAQUE
END:VEVENT
END:VCALENDAR
