BEGIN:VCALENDAR
PRODID:-//http://statistik.d-u-v.org//PHP ultracalendar//EN
VERSION:2.0
METHOD:PUBLISH
BEGIN:VEVENT
DTSTAMP:20260419T223141
CREATED:20120607T155432
UID:1776637901.0.31899300-14541@statistik.d-u-v.org
SUMMARY:Snow Peaks 50 Mile Trail Run
DESCRIPTION: Snow Peaks 50 Mile Trail Run\n
  John Bozung\n
  jbozung[at]aol.com
DTSTART:20080607T050000
DTEND:00000000T235900
LOCATION:Provo, UT\, USA
URL:http://www.squawpeak50.com/sqw_mstr.htm
CATEGORIES:Ultramarathon
CONTACT:John Bozung
CLASS:PUBLIC
PRIORITY:5
TRANSP:OPAQUE
END:VEVENT
END:VCALENDAR
