BEGIN:VCALENDAR
PRODID:-//http://statistik.d-u-v.org//PHP ultracalendar//EN
VERSION:2.0
METHOD:PUBLISH
BEGIN:VEVENT
DTSTAMP:20260422T035956
CREATED:20120531T182829
UID:1776830396.0.52981500-14487@statistik.d-u-v.org
SUMMARY:Trail des Forts du Grand Besançon
DESCRIPTION: Trail des Forts du Grand Besançon\n
  \n
  trailbesancon[at]free.fr
DTSTART:20120513T080000
DTEND:00000000T235900
LOCATION:Besancon\, FRA
URL:http://trailbesancon.free.fr/
CATEGORIES:Ultramarathon
CONTACT:
CLASS:PUBLIC
PRIORITY:5
TRANSP:OPAQUE
END:VEVENT
END:VCALENDAR
